BEGIN:VCALENDAR
VERSION:2.0
PRODID:icalendar-ruby
CALSCALE:GREGORIAN
METHOD:PUBLISH
BEGIN:VEVENT
DTSTAMP:20260420T042354Z
UID:239-108462@gospellifechurch.net
DTSTART:20260426T153000Z
DTEND:20260426T164500Z
CLASS:PUBLIC
CREATED:20260415T121155
DESCRIPTION:If you are new or newer to GLC and haven’t made it to a previ
 ous welcome lunch\, plan to join us after church for a Welcome Lunch!  It
 ’s a nice way to get to know some of our staff and church leadership all
  while enjoying a free meal.  With many new faces there’s no fear you
 ’ll be the only “new” person there - you may even be surprised at wh
 o else is “new”!\nThink you can come?  Sign up here.
LAST-MODIFIED:20260415T121155
LOCATION:Gospel Life Church
SUMMARY:Welcome Lunch
URL;VALUE=URI:https://www.gospellifechurch.net/events/welcome-lunch--239/20
 26-04-26
ATTACH;FILENAME=Welcome-Lunch---Generic---Wide.jpg;FMTTYPE=image/jpeg:https
 ://dq5pwpg1q8ru0.cloudfront.net/2025/09/03/14/16/39/33133cfa-af42-4ed2-86b
 0-a39881fc64a4/Welcome-Lunch---Generic---Wide.jpg
END:VEVENT
END:VCALENDAR
