BEGIN:VCALENDAR
VERSION:2.0
PRODID:icalendar-ruby
CALSCALE:GREGORIAN
METHOD:PUBLISH
BEGIN:VEVENT
DTSTAMP:20260425T121606Z
UID:305-113378@gospellifechurch.net
DTSTART:20260424T210000Z
DTEND:20260425T160000Z
CLASS:PUBLIC
CREATED:20260424T101725
DESCRIPTION:\nhttps://www.slipperyrockbaptistcamp.org/\nCost is $20 + Paint
 ball if your teen plays\n
LAST-MODIFIED:20260424T101725
LOCATION:Slippery Rock Baptist Camp
SUMMARY:SRBC Youth Retreat
URL;VALUE=URI:https://www.gospellifechurch.net/events/srbc-youth-retreat--3
 05/2026-04-24
ATTACH;FILENAME=SRBC_ScreenCapture.png;FMTTYPE=image/png:https://dq5pwpg1q8
 ru0.cloudfront.net/2026/04/24/14/17/24/43ef753f-18aa-4d3b-b8f4-43b7574a830
 f/SRBC_ScreenCapture.png
END:VEVENT
END:VCALENDAR
